BEGIN:VCALENDAR
VERSION:2.0
PRODID:-//Infinite Evolution Youth Empowerment Initiative - ECPv6.15.17//NONSGML v1.0//EN
CALSCALE:GREGORIAN
METHOD:PUBLISH
X-WR-CALNAME:Infinite Evolution Youth Empowerment Initiative
X-ORIGINAL-URL:https://www.ieyei.club
X-WR-CALDESC:Events for Infinite Evolution Youth Empowerment Initiative
REFRESH-INTERVAL;VALUE=DURATION:PT1H
X-Robots-Tag:noindex
X-PUBLISHED-TTL:PT1H
BEGIN:VTIMEZONE
TZID:UTC
BEGIN:STANDARD
TZOFFSETFROM:+0000
TZOFFSETTO:+0000
TZNAME:UTC
DTSTART:20250101T000000
END:STANDARD
END:VTIMEZONE
BEGIN:VEVENT
DTSTART;TZID=UTC:20260223T180000
DTEND;TZID=UTC:20260223T200000
DTSTAMP:20260419T154210
CREATED:20260109T205126Z
LAST-MODIFIED:20260109T205126Z
UID:178-1771869600-1771876800@www.ieyei.club
SUMMARY:Winter Workout '26 - Batting Practice 7
DESCRIPTION:2 hour rotation of tee work\, batting practice & physical training.\nCovered in Winter Workout fee or $20 drop in.
URL:https://www.ieyei.club/event/winter-workout-26-batting-practice-7/
LOCATION:On Deck Batting Cage\, 8575 Landover Rd\, Hyattsville\, MD\, United States
ORGANIZER;CN="IEYEI":MAILTO:info@ieyei.club
END:VEVENT
END:VCALENDAR