BEGIN:VCALENDAR
VERSION:2.0
PRODID:-//Infinite Evolution Youth Empowerment Initiative - ECPv6.15.17//NONSGML v1.0//EN
CALSCALE:GREGORIAN
METHOD:PUBLISH
X-ORIGINAL-URL:https://www.ieyei.club
X-WR-CALDESC:Events for Infinite Evolution Youth Empowerment Initiative
REFRESH-INTERVAL;VALUE=DURATION:PT1H
X-Robots-Tag:noindex
X-PUBLISHED-TTL:PT1H
BEGIN:VTIMEZONE
TZID:America/New_York
BEGIN:DAYLIGHT
TZOFFSETFROM:-0500
TZOFFSETTO:-0400
TZNAME:EDT
DTSTART:20250309T070000
END:DAYLIGHT
BEGIN:STANDARD
TZOFFSETFROM:-0400
TZOFFSETTO:-0500
TZNAME:EST
DTSTART:20251102T060000
END:STANDARD
BEGIN:DAYLIGHT
TZOFFSETFROM:-0500
TZOFFSETTO:-0400
TZNAME:EDT
DTSTART:20260308T070000
END:DAYLIGHT
BEGIN:STANDARD
TZOFFSETFROM:-0400
TZOFFSETTO:-0500
TZNAME:EST
DTSTART:20261101T060000
END:STANDARD
BEGIN:DAYLIGHT
TZOFFSETFROM:-0500
TZOFFSETTO:-0400
TZNAME:EDT
DTSTART:20270314T070000
END:DAYLIGHT
BEGIN:STANDARD
TZOFFSETFROM:-0400
TZOFFSETTO:-0500
TZNAME:EST
DTSTART:20271107T060000
END:STANDARD
END:VTIMEZONE
BEGIN:VEVENT
DTSTART;TZID=America/New_York:20260111T130000
DTEND;TZID=America/New_York:20260111T150000
DTSTAMP:20260419T124116
CREATED:20260109T181504Z
LAST-MODIFIED:20260109T194422Z
UID:142-1768136400-1768143600@www.ieyei.club
SUMMARY:Winter Workout '26 - Classroom Session 1
DESCRIPTION:Please enable JavaScript in your browser to complete this form.Please enable JavaScript in your browser to complete this form.Name *		\n			Message Name Subject\n			\n		\n		Email *SubjectMessage *Submit  \nSession #1 – \nWelcome Back-\nExpectations-\nSelf-Discipline-\nFocus-\nField & Position Refresher
URL:https://www.ieyei.club/event/winter-workout-26-classroom-session-1/
LOCATION:Durant Center\, 5001 Silver Hill Rd\, Suitland\, MD\, United States
ORGANIZER;CN="IEYEI":MAILTO:info@ieyei.club
END:VEVENT
END:VCALENDAR